BEGIN:VCALENDAR
VERSION:2.0
PRODID:-//eventon.com NONSGML v1.0//EN
CALSCALE:GREGORIAN
METHOD:PUBLISH
BEGIN:VEVENT
UID:69e730957ef1d
DTSTAMP:20260421T080853Z
DTSTART:20200514
DTEND:20200515
LOCATION:
SUMMARY:Newsletter Released
DESCRIPTION:Newsletter Released\nhttps://www.glencoeps.wa.edu.au/events/new
 sletter-released/
URL:https://www.glencoeps.wa.edu.au/events/newsletter-released/
END:VEVENT
END:VCALENDAR